BEGIN:VCALENDAR
VERSION:2.0
PRODID:-//Daddy Mac - ECPv6.15.20//NONSGML v1.0//EN
CALSCALE:GREGORIAN
METHOD:PUBLISH
X-WR-CALNAME:Daddy Mac
X-ORIGINAL-URL:https://daddymacfoodtruck.com
X-WR-CALDESC:Events for Daddy Mac
REFRESH-INTERVAL;VALUE=DURATION:PT1H
X-Robots-Tag:noindex
X-PUBLISHED-TTL:PT1H
BEGIN:VTIMEZONE
TZID:America/New_York
BEGIN:DAYLIGHT
TZOFFSETFROM:-0500
TZOFFSETTO:-0400
TZNAME:EDT
DTSTART:20230312T070000
END:DAYLIGHT
BEGIN:STANDARD
TZOFFSETFROM:-0400
TZOFFSETTO:-0500
TZNAME:EST
DTSTART:20231105T060000
END:STANDARD
BEGIN:DAYLIGHT
TZOFFSETFROM:-0500
TZOFFSETTO:-0400
TZNAME:EDT
DTSTART:20240310T070000
END:DAYLIGHT
BEGIN:STANDARD
TZOFFSETFROM:-0400
TZOFFSETTO:-0500
TZNAME:EST
DTSTART:20241103T060000
END:STANDARD
BEGIN:DAYLIGHT
TZOFFSETFROM:-0500
TZOFFSETTO:-0400
TZNAME:EDT
DTSTART:20250309T070000
END:DAYLIGHT
BEGIN:STANDARD
TZOFFSETFROM:-0400
TZOFFSETTO:-0500
TZNAME:EST
DTSTART:20251102T060000
END:STANDARD
BEGIN:DAYLIGHT
TZOFFSETFROM:-0500
TZOFFSETTO:-0400
TZNAME:EDT
DTSTART:20260308T070000
END:DAYLIGHT
BEGIN:STANDARD
TZOFFSETFROM:-0400
TZOFFSETTO:-0500
TZNAME:EST
DTSTART:20261101T060000
END:STANDARD
END:VTIMEZONE
BEGIN:VEVENT
DTSTART;TZID=America/New_York:20250227T110000
DTEND;TZID=America/New_York:20250227T130000
DTSTAMP:20260421T041037
CREATED:20250121T200247Z
LAST-MODIFIED:20250121T200247Z
UID:11234-1740654000-1740661200@daddymacfoodtruck.com
SUMMARY:Private event
DESCRIPTION:
URL:https://daddymacfoodtruck.com/event/private-event-9/
ORGANIZER;CN="evan@mamediahub.com":MAILTO:evan@mamediahub_com
END:VEVENT
BEGIN:VEVENT
DTSTART;TZID=America/New_York:20250221T113000
DTEND;TZID=America/New_York:20250221T130000
DTSTAMP:20260421T041037
CREATED:20250121T200247Z
LAST-MODIFIED:20250121T200247Z
UID:11233-1740137400-1740142800@daddymacfoodtruck.com
SUMMARY:Private event
DESCRIPTION:
URL:https://daddymacfoodtruck.com/event/private-event-8/
ORGANIZER;CN="evan@mamediahub.com":MAILTO:evan@mamediahub_com
END:VEVENT
BEGIN:VEVENT
DTSTART;TZID=America/New_York:20250213T230000
DTEND;TZID=America/New_York:20250214T130000
DTSTAMP:20260421T041037
CREATED:20250121T200247Z
LAST-MODIFIED:20250121T200247Z
UID:11232-1739487600-1739538000@daddymacfoodtruck.com
SUMMARY:Private event
DESCRIPTION:
URL:https://daddymacfoodtruck.com/event/private-event-7/
ORGANIZER;CN="evan@mamediahub.com":MAILTO:evan@mamediahub_com
END:VEVENT
BEGIN:VEVENT
DTSTART;TZID=America/New_York:20250205T120000
DTEND;TZID=America/New_York:20250205T150000
DTSTAMP:20260421T041037
CREATED:20250121T200247Z
LAST-MODIFIED:20250121T200247Z
UID:11231-1738756800-1738767600@daddymacfoodtruck.com
SUMMARY:Amazon York. 5125 Commerce Dr\, York\, PA. 12-3 & 9-10
DESCRIPTION:
URL:https://daddymacfoodtruck.com/event/amazon-york-5125-commerce-dr-york-pa-12-3-9-10/
ORGANIZER;CN="evan@mamediahub.com":MAILTO:evan@mamediahub_com
END:VEVENT
BEGIN:VEVENT
DTSTART;TZID=America/New_York:20250203T114500
DTEND;TZID=America/New_York:20250203T134500
DTSTAMP:20260421T041037
CREATED:20250121T200247Z
LAST-MODIFIED:20250121T200247Z
UID:11230-1738583100-1738590300@daddymacfoodtruck.com
SUMMARY:Private Event
DESCRIPTION:
URL:https://daddymacfoodtruck.com/event/private-event-6/
ORGANIZER;CN="evan@mamediahub.com":MAILTO:evan@mamediahub_com
END:VEVENT
BEGIN:VEVENT
DTSTART;TZID=America/New_York:20241221T140000
DTEND;TZID=America/New_York:20241221T200000
DTSTAMP:20260421T041037
CREATED:20241107T235355Z
LAST-MODIFIED:20241107T235355Z
UID:10122-1734789600-1734811200@daddymacfoodtruck.com
SUMMARY:Stewartstown Christmas Market at Aviator Brew Hub
DESCRIPTION:
URL:https://daddymacfoodtruck.com/event/stewartstown-christmas-market-at-aviator-brew-hub/
ORGANIZER;CN="66cf927d2b6bcf4a14987e79355aae297ddf87c64e7f62715c9fd594e8565c1c@group.calendar.google.com":MAILTO:66cf927d2b6bcf4a14987e79355aae297ddf87c64e7f62715c9fd594e8565c1c@group_calendar_google_com
END:VEVENT
BEGIN:VEVENT
DTSTART;TZID=America/New_York:20241211T100000
DTEND;TZID=America/New_York:20241211T103000
DTSTAMP:20260421T041037
CREATED:20241203T194533Z
LAST-MODIFIED:20241203T194533Z
UID:10759-1733911200-1733913000@daddymacfoodtruck.com
SUMMARY:Daddy Mac Recommendation
DESCRIPTION:________________________________________________________________________________Microsoft Teams Need help?Join the meeting nowMeeting ID: 271 570 587 618Passcode: ci2nj3hE________________________________For organizers: Meeting options________________________________________________________________________________
URL:https://daddymacfoodtruck.com/event/daddy-mac-recommendation/
LOCATION:Microsoft Teams Meeting
ORGANIZER;CN="evan@mamediahub.com":MAILTO:evan@mamediahub_com
END:VEVENT
BEGIN:VEVENT
DTSTART;TZID=America/New_York:20241209T110000
DTEND;TZID=America/New_York:20241209T130000
DTSTAMP:20260421T041037
CREATED:20241030T175538Z
LAST-MODIFIED:20241030T175538Z
UID:9938-1733742000-1733749200@daddymacfoodtruck.com
SUMMARY:UPMC Memorial  1701 Innovation Dr York\, PA  17408 United States
DESCRIPTION:
URL:https://daddymacfoodtruck.com/event/upmc-memorial-1701-innovation-dr-york-pa-17408-united-states/
ORGANIZER;CN="66cf927d2b6bcf4a14987e79355aae297ddf87c64e7f62715c9fd594e8565c1c@group.calendar.google.com":MAILTO:66cf927d2b6bcf4a14987e79355aae297ddf87c64e7f62715c9fd594e8565c1c@group_calendar_google_com
END:VEVENT
BEGIN:VEVENT
DTSTART;TZID=America/New_York:20241208T110000
DTEND;TZID=America/New_York:20241208T140000
DTSTAMP:20260421T041037
CREATED:20241130T235240Z
LAST-MODIFIED:20241130T235240Z
UID:10690-1733655600-1733666400@daddymacfoodtruck.com
SUMMARY:Dog Show 615 Narrows Rd Biglerville Pa 17307
DESCRIPTION:
URL:https://daddymacfoodtruck.com/event/dog-show-615-narrows-rd-biglerville-pa-17307-2/
ORGANIZER;CN="evan@mamediahub.com":MAILTO:evan@mamediahub_com
END:VEVENT
BEGIN:VEVENT
DTSTART;TZID=America/New_York:20241207T110000
DTEND;TZID=America/New_York:20241207T143000
DTSTAMP:20260421T041037
CREATED:20241130T235240Z
LAST-MODIFIED:20241130T235240Z
UID:10689-1733569200-1733581800@daddymacfoodtruck.com
SUMMARY:Dog Show 615 Narrows Rd Biglerville Pa 17307
DESCRIPTION:
URL:https://daddymacfoodtruck.com/event/dog-show-615-narrows-rd-biglerville-pa-17307/
ORGANIZER;CN="evan@mamediahub.com":MAILTO:evan@mamediahub_com
END:VEVENT
BEGIN:VEVENT
DTSTART;TZID=America/New_York:20241205T110000
DTEND;TZID=America/New_York:20241205T140000
DTSTAMP:20260421T041037
CREATED:20241122T214643Z
LAST-MODIFIED:20241122T214643Z
UID:10493-1733396400-1733407200@daddymacfoodtruck.com
SUMMARY:Campbell’s Hanover PA 1250 York St Hanover\, PA 17331
DESCRIPTION:
URL:https://daddymacfoodtruck.com/event/campbells-hanover-pa-1250-york-st-hanover-pa-17331-2/
ORGANIZER;CN="evan@mamediahub.com":MAILTO:evan@mamediahub_com
END:VEVENT
BEGIN:VEVENT
DTSTART;TZID=America/New_York:20241204T110000
DTEND;TZID=America/New_York:20241204T140000
DTSTAMP:20260421T041037
CREATED:20240924T154545Z
LAST-MODIFIED:20240924T154545Z
UID:9065-1733310000-1733320800@daddymacfoodtruck.com
SUMMARY:Engel Machinery  3740 Board Rd\, York\, PA 17406
DESCRIPTION:
URL:https://daddymacfoodtruck.com/event/engel-machinery-3740-board-rd-york-pa-17406-2/
ORGANIZER;CN="66cf927d2b6bcf4a14987e79355aae297ddf87c64e7f62715c9fd594e8565c1c@group.calendar.google.com":MAILTO:66cf927d2b6bcf4a14987e79355aae297ddf87c64e7f62715c9fd594e8565c1c@group_calendar_google_com
END:VEVENT
BEGIN:VEVENT
DTSTART;TZID=America/New_York:20241203T113000
DTEND;TZID=America/New_York:20241203T120000
DTSTAMP:20260421T041037
CREATED:20241126T174255Z
LAST-MODIFIED:20241126T174255Z
UID:10586-1733225400-1733227200@daddymacfoodtruck.com
SUMMARY:Daddy Mac Meeting
DESCRIPTION:________________________________________________________________________________Microsoft Teams Need help?Join the meeting nowMeeting ID: 236 624 121 430Passcode: PA6KQ6Em________________________________For organizers: Meeting options________________________________________________________________________________
URL:https://daddymacfoodtruck.com/event/daddy-mac-meeting/
LOCATION:Microsoft Teams Meeting
ORGANIZER;CN="evan@mamediahub.com":MAILTO:evan@mamediahub_com
END:VEVENT
BEGIN:VEVENT
DTSTART;TZID=America/New_York:20241126T113000
DTEND;TZID=America/New_York:20241126T120000
DTSTAMP:20260421T041037
CREATED:20241120T194106Z
LAST-MODIFIED:20241120T194106Z
UID:10442-1732620600-1732622400@daddymacfoodtruck.com
SUMMARY:Daddy Mac Food Truck - Proposal
DESCRIPTION:________________________________________________________________________________Microsoft Teams Need help?Join the meeting nowMeeting ID: 293 550 540 393Passcode: rHbbCE________________________________For organizers: Meeting options________________________________________________________________________________
URL:https://daddymacfoodtruck.com/event/daddy-mac-food-truck-proposal/
LOCATION:Microsoft Teams Meeting
ORGANIZER;CN="evan@mamediahub.com":MAILTO:evan@mamediahub_com
END:VEVENT
BEGIN:VEVENT
DTSTART;TZID=America/New_York:20241123T090000
DTEND;TZID=America/New_York:20241123T140000
DTSTAMP:20260421T041037
CREATED:20241010T174145Z
LAST-MODIFIED:20241010T174145Z
UID:9454-1732352400-1732370400@daddymacfoodtruck.com
SUMMARY:3377 fox run road assisted living facility
DESCRIPTION:
URL:https://daddymacfoodtruck.com/event/3377-fox-run-road-assisted-living-facility/
ORGANIZER;CN="66cf927d2b6bcf4a14987e79355aae297ddf87c64e7f62715c9fd594e8565c1c@group.calendar.google.com":MAILTO:66cf927d2b6bcf4a14987e79355aae297ddf87c64e7f62715c9fd594e8565c1c@group_calendar_google_com
END:VEVENT
BEGIN:VEVENT
DTSTART;TZID=America/New_York:20241121T110000
DTEND;TZID=America/New_York:20241121T140000
DTSTAMP:20260421T041037
CREATED:20241120T204416Z
LAST-MODIFIED:20241120T204416Z
UID:10444-1732186800-1732197600@daddymacfoodtruck.com
SUMMARY:Campbell’s Hanover PA 1250 York St Hanover\, PA 17331
DESCRIPTION:
URL:https://daddymacfoodtruck.com/event/campbells-hanover-pa-1250-york-st-hanover-pa-17331/
ORGANIZER;CN="evan@mamediahub.com":MAILTO:evan@mamediahub_com
END:VEVENT
BEGIN:VEVENT
DTSTART;TZID=America/New_York:20241120T110000
DTEND;TZID=America/New_York:20241120T140000
DTSTAMP:20260421T041037
CREATED:20240924T154544Z
LAST-MODIFIED:20240924T154544Z
UID:9064-1732100400-1732111200@daddymacfoodtruck.com
SUMMARY:Engel Machinery  3740 Board Rd\, York\, PA 17406
DESCRIPTION:
URL:https://daddymacfoodtruck.com/event/engel-machinery-3740-board-rd-york-pa-17406/
ORGANIZER;CN="66cf927d2b6bcf4a14987e79355aae297ddf87c64e7f62715c9fd594e8565c1c@group.calendar.google.com":MAILTO:66cf927d2b6bcf4a14987e79355aae297ddf87c64e7f62715c9fd594e8565c1c@group_calendar_google_com
END:VEVENT
BEGIN:VEVENT
DTSTART;TZID=America/New_York:20241111T110000
DTEND;TZID=America/New_York:20241111T133000
DTSTAMP:20260421T041037
CREATED:20241031T184556Z
LAST-MODIFIED:20241031T184556Z
UID:9964-1731322800-1731331800@daddymacfoodtruck.com
SUMMARY:Apple hill heart and vascular
DESCRIPTION:
URL:https://daddymacfoodtruck.com/event/apple-hill-heart-and-vascular/
ORGANIZER;CN="66cf927d2b6bcf4a14987e79355aae297ddf87c64e7f62715c9fd594e8565c1c@group.calendar.google.com":MAILTO:66cf927d2b6bcf4a14987e79355aae297ddf87c64e7f62715c9fd594e8565c1c@group_calendar_google_com
END:VEVENT
BEGIN:VEVENT
DTSTART;TZID=America/New_York:20241109T120000
DTEND;TZID=America/New_York:20241109T160000
DTSTAMP:20260421T041037
CREATED:20241029T224358Z
LAST-MODIFIED:20241029T224358Z
UID:9919-1731153600-1731168000@daddymacfoodtruck.com
SUMMARY:Amelia Symone Bridal 123 Baltimore Street Hanover\, P.A 17331
DESCRIPTION:
URL:https://daddymacfoodtruck.com/event/amelia-symone-bridal-123-baltimore-street-hanover-p-a-17331/
ORGANIZER;CN="66cf927d2b6bcf4a14987e79355aae297ddf87c64e7f62715c9fd594e8565c1c@group.calendar.google.com":MAILTO:66cf927d2b6bcf4a14987e79355aae297ddf87c64e7f62715c9fd594e8565c1c@group_calendar_google_com
END:VEVENT
BEGIN:VEVENT
DTSTART;TZID=America/New_York:20241106T120000
DTEND;TZID=America/New_York:20241106T150000
DTSTAMP:20260421T041037
CREATED:20241103T221629Z
LAST-MODIFIED:20241103T221629Z
UID:10033-1730894400-1730905200@daddymacfoodtruck.com
SUMMARY:Amazon 500 mccarthy drive Lewisberry PA 17339 12-3    9-1030
DESCRIPTION:
URL:https://daddymacfoodtruck.com/event/amazon-500-mccarthy-drive-lewisberry-pa-17339-12-3-9-1030/
ORGANIZER;CN="66cf927d2b6bcf4a14987e79355aae297ddf87c64e7f62715c9fd594e8565c1c@group.calendar.google.com":MAILTO:66cf927d2b6bcf4a14987e79355aae297ddf87c64e7f62715c9fd594e8565c1c@group_calendar_google_com
END:VEVENT
BEGIN:VEVENT
DTSTART;TZID=America/New_York:20241103T080000
DTEND;TZID=America/New_York:20241103T170000
DTSTAMP:20260421T041037
CREATED:20240924T154544Z
LAST-MODIFIED:20240924T154544Z
UID:9063-1730620800-1730653200@daddymacfoodtruck.com
SUMMARY:Gray Apple Holiday Market  2700 Susquehanna trl York pa
DESCRIPTION:
URL:https://daddymacfoodtruck.com/event/gray-apple-holiday-market-2700-susquehanna-trl-york-pa-2/
ORGANIZER;CN="66cf927d2b6bcf4a14987e79355aae297ddf87c64e7f62715c9fd594e8565c1c@group.calendar.google.com":MAILTO:66cf927d2b6bcf4a14987e79355aae297ddf87c64e7f62715c9fd594e8565c1c@group_calendar_google_com
END:VEVENT
BEGIN:VEVENT
DTSTART;TZID=America/New_York:20241102T080000
DTEND;TZID=America/New_York:20241102T170000
DTSTAMP:20260421T041037
CREATED:20240924T154544Z
LAST-MODIFIED:20240924T154544Z
UID:9062-1730534400-1730566800@daddymacfoodtruck.com
SUMMARY:Gray Apple Holiday Market  2700 Susquehanna trl York pa
DESCRIPTION:
URL:https://daddymacfoodtruck.com/event/gray-apple-holiday-market-2700-susquehanna-trl-york-pa/
ORGANIZER;CN="66cf927d2b6bcf4a14987e79355aae297ddf87c64e7f62715c9fd594e8565c1c@group.calendar.google.com":MAILTO:66cf927d2b6bcf4a14987e79355aae297ddf87c64e7f62715c9fd594e8565c1c@group_calendar_google_com
END:VEVENT
BEGIN:VEVENT
DTSTART;TZID=America/New_York:20241101T140000
DTEND;TZID=America/New_York:20241101T160000
DTSTAMP:20260421T041037
CREATED:20241022T214632Z
LAST-MODIFIED:20241022T214632Z
UID:9749-1730469600-1730476800@daddymacfoodtruck.com
SUMMARY:Lincoln Charter School 559 W. King Street
DESCRIPTION:
URL:https://daddymacfoodtruck.com/event/lincoln-charter-school-559-w-king-street/
ORGANIZER;CN="66cf927d2b6bcf4a14987e79355aae297ddf87c64e7f62715c9fd594e8565c1c@group.calendar.google.com":MAILTO:66cf927d2b6bcf4a14987e79355aae297ddf87c64e7f62715c9fd594e8565c1c@group_calendar_google_com
END:VEVENT
BEGIN:VEVENT
DTSTART;TZID=America/New_York:20241030T120000
DTEND;TZID=America/New_York:20241030T140000
DTSTAMP:20260421T041037
CREATED:20240927T144405Z
LAST-MODIFIED:20240927T144405Z
UID:9136-1730289600-1730296800@daddymacfoodtruck.com
SUMMARY:Normandie Ridge  1700 Normandie Dr York PA 17408
DESCRIPTION:
URL:https://daddymacfoodtruck.com/event/normandie-ridge-1700-normandie-dr-york-pa-17408/
ORGANIZER;CN="66cf927d2b6bcf4a14987e79355aae297ddf87c64e7f62715c9fd594e8565c1c@group.calendar.google.com":MAILTO:66cf927d2b6bcf4a14987e79355aae297ddf87c64e7f62715c9fd594e8565c1c@group_calendar_google_com
END:VEVENT
BEGIN:VEVENT
DTSTART;TZID=America/New_York:20241023T120000
DTEND;TZID=America/New_York:20241023T150000
DTSTAMP:20260421T041037
CREATED:20241022T204618Z
LAST-MODIFIED:20241022T204618Z
UID:9747-1729684800-1729695600@daddymacfoodtruck.com
SUMMARY:Amazon York Pa
DESCRIPTION:
URL:https://daddymacfoodtruck.com/event/amazon-york-pa/
ORGANIZER;CN="66cf927d2b6bcf4a14987e79355aae297ddf87c64e7f62715c9fd594e8565c1c@group.calendar.google.com":MAILTO:66cf927d2b6bcf4a14987e79355aae297ddf87c64e7f62715c9fd594e8565c1c@group_calendar_google_com
END:VEVENT
BEGIN:VEVENT
DTSTART;TZID=America/New_York:20241019T120000
DTEND;TZID=America/New_York:20241019T150000
DTSTAMP:20260421T041037
CREATED:20241009T141443Z
LAST-MODIFIED:20241009T141443Z
UID:9425-1729339200-1729350000@daddymacfoodtruck.com
SUMMARY:Tanger Pink Party to raise funds and awareness for Breast Cancer
DESCRIPTION:
URL:https://daddymacfoodtruck.com/event/tanger-pink-party-to-raise-funds-and-awareness-for-breast-cancer/
ORGANIZER;CN="66cf927d2b6bcf4a14987e79355aae297ddf87c64e7f62715c9fd594e8565c1c@group.calendar.google.com":MAILTO:66cf927d2b6bcf4a14987e79355aae297ddf87c64e7f62715c9fd594e8565c1c@group_calendar_google_com
END:VEVENT
BEGIN:VEVENT
DTSTART;TZID=America/New_York:20241018T114500
DTEND;TZID=America/New_York:20241018T124500
DTSTAMP:20260421T041037
CREATED:20241013T214418Z
LAST-MODIFIED:20241013T214418Z
UID:9531-1729251900-1729255500@daddymacfoodtruck.com
SUMMARY:Private Event
DESCRIPTION:
URL:https://daddymacfoodtruck.com/event/private-event-5/
ORGANIZER;CN="66cf927d2b6bcf4a14987e79355aae297ddf87c64e7f62715c9fd594e8565c1c@group.calendar.google.com":MAILTO:66cf927d2b6bcf4a14987e79355aae297ddf87c64e7f62715c9fd594e8565c1c@group_calendar_google_com
END:VEVENT
BEGIN:VEVENT
DTSTART;TZID=America/New_York:20241017T090000
DTEND;TZID=America/New_York:20241017T120000
DTSTAMP:20260421T041037
CREATED:20240930T174205Z
LAST-MODIFIED:20240930T174205Z
UID:9212-1729155600-1729166400@daddymacfoodtruck.com
SUMMARY:Old Dominion
DESCRIPTION:
URL:https://daddymacfoodtruck.com/event/old-dominion/
ORGANIZER;CN="66cf927d2b6bcf4a14987e79355aae297ddf87c64e7f62715c9fd594e8565c1c@group.calendar.google.com":MAILTO:66cf927d2b6bcf4a14987e79355aae297ddf87c64e7f62715c9fd594e8565c1c@group_calendar_google_com
END:VEVENT
BEGIN:VEVENT
DTSTART;TZID=America/New_York:20241012T120000
DTEND;TZID=America/New_York:20241012T170000
DTSTAMP:20260421T041037
CREATED:20240903T220000Z
LAST-MODIFIED:20240903T220000Z
UID:8603-1728734400-1728752400@daddymacfoodtruck.com
SUMMARY:Foiled hair studio fall fest.
DESCRIPTION:
URL:https://daddymacfoodtruck.com/event/foiled-hair-studio-fall-fest/
ORGANIZER;CN="66cf927d2b6bcf4a14987e79355aae297ddf87c64e7f62715c9fd594e8565c1c@group.calendar.google.com":MAILTO:66cf927d2b6bcf4a14987e79355aae297ddf87c64e7f62715c9fd594e8565c1c@group_calendar_google_com
END:VEVENT
BEGIN:VEVENT
DTSTART;TZID=America/New_York:20241011T160000
DTEND;TZID=America/New_York:20241011T210000
DTSTAMP:20260421T041037
CREATED:20240825T211641Z
LAST-MODIFIED:20240825T211641Z
UID:8414-1728662400-1728680400@daddymacfoodtruck.com
SUMMARY:Tap room brewery 928 N. Prince St. Lancaster\, PA 17603
DESCRIPTION:
URL:https://daddymacfoodtruck.com/event/tap-room-brewery-928-n-prince-st-lancaster-pa-17603/
ORGANIZER;CN="66cf927d2b6bcf4a14987e79355aae297ddf87c64e7f62715c9fd594e8565c1c@group.calendar.google.com":MAILTO:66cf927d2b6bcf4a14987e79355aae297ddf87c64e7f62715c9fd594e8565c1c@group_calendar_google_com
END:VEVENT
END:VCALENDAR